{"text_format":"1","workbook":"xlsx","n_sheets":2,"sheets":["aleatori","capseta"],"not_rendered":{"charts":0,"images":1,"macros":1,"external_links":0,"defined_names":4,"comments":0,"pivot_tables":0},"unopened":[],"bounds":{"document_bytes":16777216,"sheet_cells":100000,"rows_first":2000,"rows_last":500,"rows_between":2000,"halvings":0,"cell_chars":16384,"cell_head_chars":4096},"cells_cut":0,"cells_raw":0,"read":"whole","date_system":"1900"}

{"sheet":"aleatori","index":0,"n_rows":20,"n_cols":9,"rows_kept":20,"cut":false,"hidden":true,"merged":[]}
[{"$f":"RAND()","v":0.70338293868603641},{"$f":"_xlfn.RANK.EQ(A1,INDIRECT($F$2))","v":4},{"$f":"IF(COUNTIF($B$1:$B$9,B1)>1,\"Repetits\",\"OK\")","v":"OK"},{"$f":"B1+capseta!$C$16-1","v":4}," < D1 ","MIN-MAX","NOMBRES","OPERACIONS","MULTIPLES"]
[0.47250494615770466,7,"OK",{"$f":"B2+capseta!$C$16-1","v":7},{"$f":"IFERROR(INDEX(INDIRECT($F$3),MATCH(TRUE,INDIRECT($F$3)<D1,0)),1)","v":1},{"$f":"\"A1:A\" & capseta!D16-capseta!C16+1","v":"A1:A10"},"ENTERS","SUMA","UNITATS"]
[0.97188562207374296,1,"OK",{"$f":"B3+capseta!$C$16-1","v":1},null,{"$f":"\"D2:D\" & capseta!D16-capseta!C16+1","v":"D2:D10"},"NATURALS","RESTA","DESENES"]
[0.9305010389278604,2,"OK",{"$f":"B4+capseta!$C$16-1","v":2},null,null,null,"MULTIPLICACIÓ","CENTENES"]
[0.5107366854278933,5,"OK",{"$f":"B5+capseta!$C$16-1","v":5},null,null,null,"DIVISIÓ"]
[0.40231959477730428,8,"OK",{"$f":"B6+capseta!$C$16-1","v":8}]
[0.17004501304420405,10,"OK",{"$f":"B7+capseta!$C$16-1","v":10}]
[0.48061619268176792,6,"OK",{"$f":"B8+capseta!$C$16-1","v":6}]
[0.32612420871336767,9,"OK",{"$f":"B9+capseta!$C$16-1","v":9}]
[0.9071080140433988,3,"OK",{"$f":"B10+capseta!$C$16-1","v":3}]
[0.86193139326380575,{"$error":"#N/A"},"OK",{"$f":"B11+capseta!$C$16-1","v":{"$error":"#N/A"}}]
[0.26924344336500028,{"$error":"#N/A"},"OK",{"$f":"B12+capseta!$C$16-1","v":{"$error":"#N/A"}}]
[0.88154661488034713,{"$error":"#N/A"},"OK",{"$f":"B13+capseta!$C$16-1","v":{"$error":"#N/A"}}]
[0.57730275980668355,{"$error":"#N/A"},"OK",{"$f":"B14+capseta!$C$16-1","v":{"$error":"#N/A"}}]
[0.37079740428709507,{"$error":"#N/A"},"OK",{"$f":"B15+capseta!$C$16-1","v":{"$error":"#N/A"}}]
[0.28518462434943526,{"$error":"#N/A"},"OK",{"$f":"B16+capseta!$C$16-1","v":{"$error":"#N/A"}}]
[0.5009560057138337,{"$error":"#N/A"},"OK",{"$f":"B17+capseta!$C$16-1","v":{"$error":"#N/A"}}]
[8.5389092645143383E-2,{"$error":"#N/A"},"OK",{"$f":"B18+capseta!$C$16-1","v":{"$error":"#N/A"}}]
[9.1662752600174535E-3,{"$error":"#N/A"},"OK",{"$f":"B19+capseta!$C$16-1","v":{"$error":"#N/A"}}]
[0.97449007713769542,{"$error":"#N/A"},"OK",{"$f":"B20+capseta!$C$16-1","v":{"$error":"#N/A"}}]

{"sheet":"capseta","index":1,"n_rows":19,"n_cols":7,"rows_kept":19,"cut":false,"hidden":false,"merged":[[18,2,19,6],[10,2,11,3],[12,2,12,3],[3,2,3,6],[5,2,5,3],[5,5,5,6],[6,2,6,3],[6,5,10,6],[11,5,15,5],[11,6,15,6]]}
[]
[]
[null,null,"CÀLCUL MENTAL"]
[]
[]
[null,null,null,null,null,{"$f":"D8","v":"+"}]
[null,null,"NATURALS",null,null,{"$f":"IF(C8=\"RESTA\",IF(C7=\"NATURALS\",aleatori!D1*D9,RANDBETWEEN(C16,D16)*D9),IF(D8=\"+\",F12+G12,IF(D8=\"x\",F12*G12,IF(D8=\"÷\",F12*G12,\"\"))))","v":12}]
[null,null,"SUMA",{"$f":"IF(C8=\"SUMA\",\"+\",IF(C8=\"RESTA\",\"-\",IF(C8=\"MULTIPLICACIÓ\",\"x\",IF(C8=\"DIVISIÓ\",\"÷\",IF(C8=\"SUMA-RESTA\",IF(RANDBETWEEN(1,2)=1,\"+\",\"-\"),IF(C8=\"TOTS\",CHOOSE(RANDBETWEEN(1,4),\"+\",\"-\",\"*\",\"/\"),\"\"))))))","v":"+"}]
[null,null,"UNITATS",{"$f":"IF(C9=\"UNITATS\",1,IF(C9=\"DESENES\",10,IF(C9=\"CENTENES\",100,)))","v":1}]
[]
[]
[null,null,null,null,null,{"$f":"IF(C8=\"RESTA\",IF(C7=\"NATURALS\",aleatori!E2*D9,RANDBETWEEN(C16,D16)*D9),RANDBETWEEN(C16,D16)*D9)","v":6},{"$f":"IF(C8=\"RESTA\",F7-F12,RANDBETWEEN(C16,D16)*D9)","v":6}]
[null,null,"Pulsa SUPR per començar..."]
[]
[null,null,"Min","Max"]
[null,null,1,10]
[]
[]
[null,null,"INSTRUCCIONS: Selecciona el rectangle taronja i prem SUPR per canviar el nombres. \nPulsa la tecla H per amagar el resultat. Pots escollir el tipus d'operació, maxim i minim..."]